BEGIN:VCALENDAR
VERSION:2.0
PRODID:-//Pittsburgh Equality Center - ECPv6.15.18//NONSGML v1.0//EN
CALSCALE:GREGORIAN
METHOD:PUBLISH
X-WR-CALNAME:Pittsburgh Equality Center
X-ORIGINAL-URL:https://pghequalitycenter.org
X-WR-CALDESC:Events for Pittsburgh Equality Center
REFRESH-INTERVAL;VALUE=DURATION:PT1H
X-Robots-Tag:noindex
X-PUBLISHED-TTL:PT1H
BEGIN:VTIMEZONE
TZID:America/New_York
BEGIN:DAYLIGHT
TZOFFSETFROM:-0500
TZOFFSETTO:-0400
TZNAME:EDT
DTSTART:20240310T070000
END:DAYLIGHT
BEGIN:STANDARD
TZOFFSETFROM:-0400
TZOFFSETTO:-0500
TZNAME:EST
DTSTART:20241103T060000
END:STANDARD
BEGIN:DAYLIGHT
TZOFFSETFROM:-0500
TZOFFSETTO:-0400
TZNAME:EDT
DTSTART:20250309T070000
END:DAYLIGHT
BEGIN:STANDARD
TZOFFSETFROM:-0400
TZOFFSETTO:-0500
TZNAME:EST
DTSTART:20251102T060000
END:STANDARD
BEGIN:DAYLIGHT
TZOFFSETFROM:-0500
TZOFFSETTO:-0400
TZNAME:EDT
DTSTART:20260308T070000
END:DAYLIGHT
BEGIN:STANDARD
TZOFFSETFROM:-0400
TZOFFSETTO:-0500
TZNAME:EST
DTSTART:20261101T060000
END:STANDARD
END:VTIMEZONE
BEGIN:VEVENT
DTSTART;TZID=America/New_York:20251107T180000
DTEND;TZID=America/New_York:20251107T230000
DTSTAMP:20260422T075527
CREATED:20250805T145558Z
LAST-MODIFIED:20251024T192935Z
UID:18542-1762538400-1762556400@pghequalitycenter.org
SUMMARY:Pittsburgh Equality Gala 2025
DESCRIPTION:Join us on Friday\, November 7\, 2025\, at the Pittsburgh Equality Gala\, a vibrant evening of celebration\, inspiration\, and connection benefiting the Pittsburgh Equality Center and the LGBTQIA+ community we proudly serve. \nWith this year’s theme\, “Bridging the Future\,” we honor Pittsburgh’s rich legacy of unity while looking boldly forward. Experience an unforgettable night filled with dinner\, drinks\, live performances\, and dancing\, bringing together community leaders\, advocates\, allies\, and changemakers committed to advancing equality and inclusion. \nMore than just a gala\, “Bridging the Future” is a movement. Together\, we will celebrate the resilience of our community\, uplift diverse voices and identities\, and raise critical funds to ensure the Pittsburgh Equality Center’s impact continues to grow for generations to come. \nJoin us in shaping a brighter\, more inclusive tomorrow. \n?
URL:https://pghequalitycenter.org/event/pittsburgh-equality-gala-2025/
LOCATION:City Winery – Strip Terminal\, 1627 Smallman Street\, Pittsburgh\, PA\, 15222\, United States
CATEGORIES:Fundraiser,Pittsburgh Equality Center Events
ATTACH;FMTTYPE=image/png:https://pghequalitycenter.org/wp-content/uploads/2025/08/PEC-Gala-2025.png
ORGANIZER;CN="Pittsburgh Equality Center":MAILTO:info@pghequalitycenter.org
END:VEVENT
BEGIN:VEVENT
DTSTART;TZID=America/New_York:20250920T193000
DTEND;TZID=America/New_York:20250920T220000
DTSTAMP:20260422T075527
CREATED:20250623T173406Z
LAST-MODIFIED:20250623T173406Z
UID:18509-1758396600-1758405600@pghequalitycenter.org
SUMMARY:OUTrageous Bingo
DESCRIPTION:OUTrageous Bingo\nThis ain’t your grandma’s bingo.\nOUTrageous Bingo is a joint fundraising venture benefiting Shepherd Wellness Community and Pittsburgh Equality Center. The goal of this event is to further the missions of the two organizations while helping to cultivate a positive\, warm\, and welcoming environment for all attendees. This event boasts a 500-seat capacity that regularly sells out! Rodef Shalom Congregation of Oakland serves as our gracious host site. \nDecember 2022 marked our 25th anniversary of having jointly hosted OUTrageous Bingo\, a remarkable milestone\, and testament to the incredible work we are doing for the Western Pennsylvania LGBTQIA+ community and those impacted by HIV/AIDS. Come help us continue this legacy! \nOur Twitter Game is now the “Homepage Game” and you’ll find two of the next game’s numbers each month on our OUTrageous Bingo page\, and two more will be on Shepherd Wellness Community’s website! \nHomepage Game numbers will be posted after tickets go on sale for the corresponding bingo date. You can follow OUTrageous Bingo on Facebook for a notification when the numbers have gone live on both websites. \nDoors open at 6:30 PM and games begin at 7:30 PM.
URL:https://pghequalitycenter.org/event/outrageous-bingo-sept-2025/
LOCATION:Rodef Shalom\, 4905 Fifth Avenue\, Pittsburgh\, PA\, 15213\, United States
CATEGORIES:Fundraiser,Pittsburgh Equality Center Events
ATTACH;FMTTYPE=image/jpeg:https://pghequalitycenter.org/wp-content/uploads/2024/04/OUTrageous-Bingo-Betty.jpg
ORGANIZER;CN="Pittsburgh Equality Center":MAILTO:info@pghequalitycenter.org
END:VEVENT
BEGIN:VEVENT
DTSTART;TZID=America/New_York:20250910T190000
DTEND;TZID=America/New_York:20250910T220000
DTSTAMP:20260422T075527
CREATED:20250802T224856Z
LAST-MODIFIED:20250802T225519Z
UID:18546-1757530800-1757541600@pghequalitycenter.org
SUMMARY:Queers\, Cheers & Beers
DESCRIPTION:BUY TICKETS NOW!\nGet ready for an unforgettable night of laughter\, music\, and LGBTQ+ pride at Queers\, Cheers and Beers! Join us for this spectacular variety show benefiting Pittsburgh Equality Center. \n\n\n\n\nStar-Studded Lineup: Featuring the talented drag queen Dixie Surewood as our Mistress of Ceremonies\, along with a roster of Pittsburgh’s finest LGBTQ+ talent! \n\nLaugh Out Loud: Hilarious stand-up from local queer comedians\nDazzling Drag: Show-stopping performances by fierce queens\nLive Vocals: Soulful serenades to make your heart soar\n\nBut Wait\, There’s More! \n\nPride on Tap: Sip on specially drinks for the evening\nTry Your Luck: Enter our 50/50 raffle for a chance to win big\nDo Good\, Feel Good: All proceeds support the vital work of Pittsburgh Equality Center\n\nEvent Details: \n\nTime: 7:00 PM – 10:00 PM (Doors open at 6:00 PM)\nTickets: $10 per person online ($15 at the door)\n\nDon’t miss this celebration of queer joy\, talent\, and community. Come for the queers\, stay for the cheers\, and enjoy the beers – all for a great cause! \nNote: Performer lineup subject to change. This is a 21+ event. \n\n\n\n\nFeatured Event Sponsor\n\n\n\n\n\n\n\n\n\n\n\n\n\n\n\n?
URL:https://pghequalitycenter.org/event/queers-cheers-beers-2025-09/
LOCATION:5801 Video Lounge\, 5801 Ellsworth Ave.\, Pittsburgh\, PA\, 15232\, United States
CATEGORIES:Fundraiser,Pittsburgh Equality Center Events
ATTACH;FMTTYPE=image/webp:https://pghequalitycenter.org/wp-content/uploads/2024/10/DALL·E-2024-10-18-10.57.26-A-vibrant-watercolor-style-event-image-for-a-variety-show-featuring-comedy-drag-performances-and-music.-The-background-should-have-splashes-of-rainb.webp
ORGANIZER;CN="Pittsburgh Equality Center":MAILTO:info@pghequalitycenter.org
END:VEVENT
BEGIN:VEVENT
DTSTART;TZID=America/New_York:20250607T193000
DTEND;TZID=America/New_York:20250607T220000
DTSTAMP:20260422T075527
CREATED:20250603T233011Z
LAST-MODIFIED:20250619T225407Z
UID:18462-1749324600-1749333600@pghequalitycenter.org
SUMMARY:OUTrageous Bingo - Pride Month Edition
DESCRIPTION:OUTrageous Bingo\nThis ain’t your grandma’s bingo.\nOUTrageous Bingo is a joint fundraising venture benefiting Shepherd Wellness Community and Pittsburgh Equality Center. The goal of this event is to further the missions of the two organizations while helping to cultivate a positive\, warm\, and welcoming environment for all attendees. This event boasts a 500-seat capacity that regularly sells out! Rodef Shalom Congregation of Oakland serves as our gracious host site. \nDecember 2022 marked our 25th anniversary of having jointly hosted OUTrageous Bingo\, a remarkable milestone\, and testament to the incredible work we are doing for the Western Pennsylvania LGBTQIA+ community and those impacted by HIV/AIDS. Come help us continue this legacy! \nOur Twitter Game is now the “Homepage Game” and you’ll find two of the next game’s numbers each month on our OUTrageous Bingo page\, and two more will be on Shepherd Wellness Community’s website! \nHomepage Game numbers will be posted after tickets go on sale for the corresponding bingo date. You can follow OUTrageous Bingo on Facebook for a notification when the numbers have gone live on both websites. \nDoors open at 6:30 PM and games begin at 7:30 PM.
URL:https://pghequalitycenter.org/event/outrageous-bingo-pride-month-edition/
LOCATION:Rodef Shalom\, 4905 Fifth Avenue\, Pittsburgh\, PA\, 15213\, United States
CATEGORIES:Fundraiser,Pittsburgh Equality Center Events
ATTACH;FMTTYPE=image/jpeg:https://pghequalitycenter.org/wp-content/uploads/2024/04/OUTrageous-Bingo-Betty.jpg
ORGANIZER;CN="Pittsburgh Equality Center":MAILTO:info@pghequalitycenter.org
END:VEVENT
END:VCALENDAR