BEGIN:VCALENDAR
VERSION:2.0
PRODID:-//Pittsburgh Equality Center - ECPv6.15.18//NONSGML v1.0//EN
CALSCALE:GREGORIAN
METHOD:PUBLISH
X-ORIGINAL-URL:https://pghequalitycenter.org
X-WR-CALDESC:Events for Pittsburgh Equality Center
REFRESH-INTERVAL;VALUE=DURATION:PT1H
X-Robots-Tag:noindex
X-PUBLISHED-TTL:PT1H
BEGIN:VTIMEZONE
TZID:America/New_York
BEGIN:DAYLIGHT
TZOFFSETFROM:-0500
TZOFFSETTO:-0400
TZNAME:EDT
DTSTART:20240310T070000
END:DAYLIGHT
BEGIN:STANDARD
TZOFFSETFROM:-0400
TZOFFSETTO:-0500
TZNAME:EST
DTSTART:20241103T060000
END:STANDARD
BEGIN:DAYLIGHT
TZOFFSETFROM:-0500
TZOFFSETTO:-0400
TZNAME:EDT
DTSTART:20250309T070000
END:DAYLIGHT
BEGIN:STANDARD
TZOFFSETFROM:-0400
TZOFFSETTO:-0500
TZNAME:EST
DTSTART:20251102T060000
END:STANDARD
BEGIN:DAYLIGHT
TZOFFSETFROM:-0500
TZOFFSETTO:-0400
TZNAME:EDT
DTSTART:20260308T070000
END:DAYLIGHT
BEGIN:STANDARD
TZOFFSETFROM:-0400
TZOFFSETTO:-0500
TZNAME:EST
DTSTART:20261101T060000
END:STANDARD
END:VTIMEZONE
BEGIN:VEVENT
DTSTART;TZID=America/New_York:20251023T180000
DTEND;TZID=America/New_York:20251023T180000
DTSTAMP:20260421T203657
CREATED:20251011T145251Z
LAST-MODIFIED:20251011T145334Z
UID:18581-1761242400-1761242400@pghequalitycenter.org
SUMMARY:Book Discussion: Stone Butch Blues by Leslie Feinberg (Lavender Book Club)
DESCRIPTION:Read Reviews \nLulu | Amazon | Goodreads | The Storygraph \nGet the Book \nFree PDF (from the author) | Library | Amazon | Lulu \nAbout the Book\nWoman or man? This internationally acclaimed novel looks at the world through the eyes of Jess Goldberg\, a masculine girl growing up in the “Ozzie and Harriet” McCarthy era and coming out as a young butch lesbian in the pre-Stonewall gay drag bars of a blue-collar town.Stone Butch Blues traces a propulsive journey\, powerfully evoking history and politics while portraying an extraordinary protagonist full of longing\, vulnerability\, and working-class grit. This once-underground classic takes the reader on a roller-coaster ride of gender transformation and exploration and ultimately speaks to the heart of anyone who has ever suffered or gloried in being different. \nDear Reader:\nI want to let you know that Stone Butch Blues is an anti-oppression/s novel.\nAs a result\, it contains scenes of rape and other violence.\nNone of this violence is gratuitous or salacious.\nLeslie \n(Source: Goodreads) \nAbout the Author\n\nLeslie Feinberg [was] an anti-racist white\, working-class\, secular Jewish\, transgender\, lesbian\, female\, revolutionary communist…. \n\nHir last words were: \n“Remember me as a revolutionary communist.” \nRead the full author biography on LeslieFeinberg.net.
URL:https://pghequalitycenter.org/event/book-discussion-stone-butch-blues-by-leslie-feinberg-lavender-book-club/
LOCATION:5401 Centre Avenue\, Pittsburgh\, PA 15232\, 5401 Centre Avenue\, Pittsburgh\, PA\, 15232\, United States
CATEGORIES:Lavender Book Club
ATTACH;FMTTYPE=image/png:https://pghequalitycenter.org/wp-content/uploads/2025/06/2-scaled.png
ORGANIZER;CN="Pittsburgh Equality Center":MAILTO:info@pghequalitycenter.org
END:VEVENT
BEGIN:VEVENT
DTSTART;TZID=America/New_York:20250828T183000
DTEND;TZID=America/New_York:20250828T200000
DTSTAMP:20260421T203657
CREATED:20250725T181540Z
LAST-MODIFIED:20250725T181540Z
UID:18526-1756405800-1756411200@pghequalitycenter.org
SUMMARY:Book Discussion: Summer Fun by Jeanne Thornton
DESCRIPTION:Join us for our August reading selection\, Summer Fun by Jean Thornton! \nRead Reviews \nAmazon | Goodreads | The Storygraph \nGet the Book \nLibrary | Amazon | Local Bookstore \nAbout the Book\nWinner of the 2022 Lammy Award for Transgender Fiction \nFrom acclaimed author Jeanne Thornton\, an epic\, singular look at fandom\, creativity\, longing\, and trans identity. \nGala\, a young trans woman\, works at a hostel in Truth or Consequences\, New Mexico. She is obsessed with the Get Happies\, the quintessential 1960s Californian band\, helmed by its resident genius\, B—-. Gala needs to know: Why did the band stop making music? Why did they never release their rumored album\, Summer Fun? \nAnd so she writes letters to B—- that shed light not only on the Get Happies\, but paint an extraordinary portrait of Gala. The parallel narratives of B—- and Gala form a dialogue about creation—of music\, identity\, self\, culture\, and counterculture. \nSummer Fun is a brilliant and magical work of trans literature that marks Thornton as one of our most exciting and original novelists. \n(Source: Amazon) \nAbout the Author\nJeanne Thornton is an American writer and co-publisher of Instar Books and Rocksalt Magazine. She has received the Judith A. Markowitz Award for Emerging LGBTQ Writers. Anthologies to which she has contributed to have won a Lambda Literary Award and a Barbara Gittings Literature Award. (Source: Wikipedia)
URL:https://pghequalitycenter.org/event/oct25-summer-fun/
LOCATION:5401 Centre Avenue\, Pittsburgh\, PA 15232\, 5401 Centre Avenue\, Pittsburgh\, PA\, 15232\, United States
CATEGORIES:Lavender Book Club
ATTACH;FMTTYPE=image/jpeg:https://pghequalitycenter.org/wp-content/uploads/2025/07/summer-fun-jeanne-thornton-sm.jpg
ORGANIZER;CN="Pittsburgh Equality Center":MAILTO:info@pghequalitycenter.org
END:VEVENT
END:VCALENDAR