BEGIN:VCALENDAR
VERSION:2.0
PRODID:-//Pittsburgh Equality Center - ECPv6.15.18//NONSGML v1.0//EN
CALSCALE:GREGORIAN
METHOD:PUBLISH
X-WR-CALNAME:Pittsburgh Equality Center
X-ORIGINAL-URL:https://pghequalitycenter.org
X-WR-CALDESC:Events for Pittsburgh Equality Center
REFRESH-INTERVAL;VALUE=DURATION:PT1H
X-Robots-Tag:noindex
X-PUBLISHED-TTL:PT1H
BEGIN:VTIMEZONE
TZID:America/New_York
BEGIN:DAYLIGHT
TZOFFSETFROM:-0500
TZOFFSETTO:-0400
TZNAME:EDT
DTSTART:20240310T070000
END:DAYLIGHT
BEGIN:STANDARD
TZOFFSETFROM:-0400
TZOFFSETTO:-0500
TZNAME:EST
DTSTART:20241103T060000
END:STANDARD
BEGIN:DAYLIGHT
TZOFFSETFROM:-0500
TZOFFSETTO:-0400
TZNAME:EDT
DTSTART:20250309T070000
END:DAYLIGHT
BEGIN:STANDARD
TZOFFSETFROM:-0400
TZOFFSETTO:-0500
TZNAME:EST
DTSTART:20251102T060000
END:STANDARD
BEGIN:DAYLIGHT
TZOFFSETFROM:-0500
TZOFFSETTO:-0400
TZNAME:EDT
DTSTART:20260308T070000
END:DAYLIGHT
BEGIN:STANDARD
TZOFFSETFROM:-0400
TZOFFSETTO:-0500
TZNAME:EST
DTSTART:20261101T060000
END:STANDARD
END:VTIMEZONE
BEGIN:VEVENT
DTSTART;TZID=America/New_York:20250729T183000
DTEND;TZID=America/New_York:20250729T200000
DTSTAMP:20260422T094449
CREATED:20250723T174003Z
LAST-MODIFIED:20250723T174515Z
UID:18519-1753813800-1753819200@pghequalitycenter.org
SUMMARY:Nico Lang\, In Conversation
DESCRIPTION:Join author Nico Lang for a reading and conversation celebrating their new book\, American Teenager—an unflinching and tender look at queer adolescence across small-town America. \nJournalist Kristina Marusic (Environmental Health News) will moderate a heartfelt discussion between Nico and Ray Sidney-Smith (President\, Pittsburgh Equality Center)\, connecting the book’s national themes to the ongoing fight for trans and queer youth in Pittsburgh.
URL:https://pghequalitycenter.org/event/nico-lang-in-conversation/
LOCATION:COhatch South Side Works\, 2681 Sidney St\, Pittsburgh\, PA\, 15203\, United States
CATEGORIES:Pittsburgh Equality Center Events,Social Justice,Transgender
ATTACH;FMTTYPE=image/png:https://pghequalitycenter.org/wp-content/uploads/2025/07/Nico-Lang-Book-Event-29-July-2025.png
ORGANIZER;CN="Pittsburgh Equality Center":MAILTO:info@pghequalitycenter.org
END:VEVENT
END:VCALENDAR